BEGIN:VCALENDAR
VERSION:2.0
PRODID:https://github.com/derhansen/sf_event_mgt
METHOD:PUBLISH
BEGIN:VEVENT
UID:688-33@www.digital-bb.de
CLASS: PUBLIC
SUMMARY:(Un)sichtbare Orte - Siegfried Hirschmann und das vergessene Industrieimperium
DESCRIPTION:\n\n\n\n
LOCATION:Kulturfabrik Fürstenwalde
DTSTAMP:20241017T082355Z
DTSTART:20241108T160000Z
DTEND:20241108T180000Z
END:VEVENT
END:VCALENDAR