BEGIN:VCALENDAR
VERSION:2.0
PRODID:https://github.com/derhansen/sf_event_mgt
METHOD:PUBLISH
BEGIN:VEVENT
UID:360-33@www.digital-bb.de
CLASS: PUBLIC
SUMMARY:Smart Country Brandenburg @ SCCON24
DESCRIPTION:
LOCATION:Messe Berlin | hub27
DTSTAMP:20240322T103024Z
DTSTART:20241015T080000Z
DTEND:20241017T160000Z
END:VEVENT
END:VCALENDAR