BEGIN:VCALENDAR
VERSION:2.0
PRODID:https://github.com/derhansen/sf_event_mgt
METHOD:PUBLISH
BEGIN:VEVENT
UID:892-33@www.digital-bb.de
CLASS: PUBLIC
SUMMARY:Matchmaking | DEICy 2025 – Digitalwirtschaft, IoT & Cybersecurity
DESCRIPTION:Das DEICy 2025 (Digital Economy, Internet of Things, Cybersecur
 ity) ist ein internationales virtuelles Brokerage-Event, das Forschungseinr
 ichtungen, Unternehmen, NGOs und Institutionen aus ganz Europa verbindet. I
 n Form von Inspiration durch Plenarsitzungen, praxisorientierten Workshops 
 und gezielten 1:1 Online-Meetings bietet das Event eine effektive Plattform
  für fachlichen Austausch und Zusammenarbeit in Schlüsselbereichen der digi
 talen Transformation.\n\nTeilnehmende können sich über Themen wie:\n\n 	 	D
 igitale Transformation (z. B. KI, Industrie 4.0, Cloud-Computing, Digitale 
 Märkte), 	 	 	Internet of Things (IoT) (z. B. Smart Grids, Wearables, Indus
 trie-IoT, Smart Farming), 	 	 	Cybersecurity (z. B. Cybersecurity-Strategie
 n, KI für Sicherheit, Schutz digitaler Services) 	 \n\ninformieren und akti
 v vernetzen.\n\nIm Fokus stehen 1:1-Online-Meetings, Fachsessions und Works
 hops – ideal, um neue Partner, Kunden und Kooperationsmöglichkeiten in Euro
 pa zu finden.\n\nInformationen & Anmeldung zum Matchmaking-Event: Home | DE
 ICy 2025 (Digital Economy, Internet of Things, Cybersecurity)
LOCATION:Online
DTSTAMP:20251008T075046Z
DTSTART:20251124T080000Z
DTEND:20251128T130000Z
END:VEVENT
END:VCALENDAR