BEGIN:VCALENDAR
VERSION:2.0
PRODID:https://github.com/derhansen/sf_event_mgt
METHOD:PUBLISH
BEGIN:VEVENT
UID:888-33@www.digital-bb.de
CLASS: PUBLIC
SUMMARY:Match XR 2025 mit Matchmaking in Helsinki
DESCRIPTION:Die Start-up-Veranstaltung Slush findet dieses Jahr am Mittwoch
 , den 19. November, und Donnerstag, den 20. November statt.\n\nAuch in dies
 em Jahr organisiert das EEN Finnland ein Matchmaking-Event als Teil von Mat
 ch XR, einem großen, kostenlosen Side-Event der Slush am Dienstag, den 18. 
 November.\n\nMatch XR ist eine jährliche Veranstaltung vor der Slush, die A
 kteure der Branche, Meinungsführer und Gleichgesinnte zusammenbringt. Der F
 okus liegt auf dem aktuellen Stand von Extended Reality (XR), Spatial Compu
 ting, Web3, Künstlicher Intelligenz und unterstützenden Technologien.\n\nEs
  gibt viele interessante Sprecher*innen – ein Blick auf das Programm lohnt 
 sich.\n\nExpertengespräche | Podiumsdiskussionen | MEFI Arcade | Community-
 VR-Zeichnen | Matchmaking | Fokus-Bühne\n\nEin Programmpunkt widmet sich de
 m Thema EU-Förderung von 14:30 bis 16:00 Uhr: „From Vision to Reality: Corp
 orate Challenges & EU Funding for Virtual Worlds“ von Vinnova und Business 
 Finland Hauptorganisator der Veranstaltung ist MEFI – Metaverse Finland Eco
 system.\n\nDas Match XR Matchmaking 2025 findet von 13:00 bis 18:00 Uhr sta
 tt, sodass eine Teilnahme am Programm und am Matchmaking möglich ist.\n\nBe
 im Matchmaking, organisiert vom Enterprise Europe Network, kannst du potenz
 ielle Kooperationspartner aus der XR- und aufstrebenden Tech-Branche in 20-
 minütigen persönlichen Treffen vor Ort kennenlernen!\n\nDie Teilnahme an Ma
 tch XR und dem Match XR Matchmaking ist kostenlos, erfordert jedoch eine Re
 gistrierung.\n\nMatch XR 2025: https://matchxr2025.metaversefinland.fi/atte
 nd\n\nMatch XR 2025 Matchmaking: https://www.b2match.com/e/matchxr2025match
 making
LOCATION:Metropolia Arabia Campus, Helsinki
DTSTAMP:20251008T070235Z
DTSTART:20251118T100000Z
DTEND:20251118T170000Z
END:VEVENT
END:VCALENDAR