BEGIN:VCALENDAR
VERSION:2.0
PRODID:https://github.com/derhansen/sf_event_mgt
METHOD:PUBLISH
BEGIN:VEVENT
UID:109-33@www.digital-bb.de
CLASS: PUBLIC
SUMMARY:IT meets UX
DESCRIPTION:Seien Sie bei einem Netzwerktreffen mit Bier und Brezeln im gem
 ütlichen Biergarten dabei! Neben den Themen zu User Experience und IT könne
 n Sie sich endlich wieder mit Akteuren aus den Branchen austauschen.\n\nDie
  modernen Ansätze der Softwareentwicklung verbindet IT und User Experience 
 miteinander, um die komplexen Anforderungen intelligent miteinander zu verk
 nüpfen und dabei den Nutzer nicht aus dem Fokus zu verlieren. Freuen Sie si
 ch auf den Austausch mit IT-Unternehmen und UX-Akteuren! IT-Unternehmen kön
 nen nach gemeinsamen Schnittstellen suchen und ihre Services weiter ausbaue
 n, während der erfahrbare Teil der Software von UX-ExpertInnen auf die Nutz
 erfreundlichkeit hin überprüft werden können. Lassen Sie sich von den Vorte
 ilen einer guten Zusammenarbeit zwischen IT und User Experience überzeugen 
 und lernen Sie mehr über Themen wie Arbeit 4.0, Agiles Arbeiten, IT-Sicherh
 eit und kooperative Geschäftsmodelle.\n\nGenießen Sie bei Bier und Brezeln 
 die offenen Gespräche, Förder- und Kooperationsmöglichkeiten.\n\nCorona-Zus
 atz\n\nFür die Teilnehmendenliste müssen wir Informationen wie Name, Adress
 e, Email oder Telefon vorlegen. Ansonsten können Sie sich auch vor Ort über
  die Luca-App registrieren.\n\nKommen Sie vorbei, tauschen Sie sich aus & v
 ernetzen Sie sich! Wir freuen uns auf Sie! Die Veranstaltung findet in Koop
 eration mit den Kompetenzzentren Usability und IT-Wirtschaft sowie Berlin P
 artner für Wirtschaft und Technologie statt und ist für Sie kostenfrei.
LOCATION:Eschenbräu
DTSTAMP:20211104T103026Z
DTSTART:20211027T150000Z
DTEND:20211027T170000Z
END:VEVENT
END:VCALENDAR