BEGIN:VCALENDAR
VERSION:2.0
PRODID:https://github.com/derhansen/sf_event_mgt
METHOD:PUBLISH
BEGIN:VEVENT
UID:78-33@www.digital-bb.de
CLASS: PUBLIC
SUMMARY:Die Zukunft betrieblichen Lernens – digital, kollaborativ und vernetzt
DESCRIPTION:
DTSTAMP:20210824T114734Z
DTSTART:20211007T130000Z
DTEND:20211007T170000Z
END:VEVENT
END:VCALENDAR