BEGIN:VCALENDAR
VERSION:2.0
PRODID:https://github.com/derhansen/sf_event_mgt
METHOD:PUBLISH
BEGIN:VEVENT
UID:834-33@www.digital-bb.de
CLASS: PUBLIC
SUMMARY:VORN - the Berlin Fashion Hub @re:publica
DESCRIPTION:Digital technologies are fundamentally changing how fashion is 
 designed, produced and consumed. On-demand production and mass customizatio
 n make it possible to produce clothing only when it is really needed - indi
 vidually adapted, resource-saving and locally manufactured.\n\nThe presenta
 tion will show how 3D design, virtual prototypes, automated production proc
 esses and digital twins are paving the way for new business models. At the 
 same time, the combination of personalization and circularity opens up new 
 perspectives for sustainable fashion consumption. What does it mean when us
 ers become co-designers? And how can data, materials and design decisions b
 e linked in such a way that textile products become more durable, traceable
  and recyclable?\n\nBased on current projects and practical examples, it be
 comes clear that the future of fashion lies in flexible, data-based and cir
 cular systems.
DTSTAMP:20250526T081354Z
DTSTART:20250527T091500Z
DTEND:20250527T094500Z
END:VEVENT
END:VCALENDAR