BEGIN:VCALENDAR
VERSION:2.0
PRODID:https://github.com/derhansen/sf_event_mgt
METHOD:PUBLISH
BEGIN:VEVENT
UID:804-33@www.digital-bb.de
CLASS: PUBLIC
SUMMARY:Music Frontiers - new visions for the music ecosystem
DESCRIPTION:
LOCATION:Aqua-Höfe
DTSTAMP:20250728T132720Z
DTSTART:20250904T080000Z
DTEND:20250905T150000Z
END:VEVENT
END:VCALENDAR