BEGIN:VCALENDAR
VERSION:2.0
PRODID:https://github.com/derhansen/sf_event_mgt
METHOD:PUBLISH
BEGIN:VEVENT
UID:428-33@www.digital-bb.de
CLASS: PUBLIC
SUMMARY:202030 – The Berlin Fashion Summit
DESCRIPTION:
LOCATION:Messe Berlin
DTSTAMP:20230118T104952Z
DTSTART:20230118T090000Z
DTEND:20230119T170000Z
END:VEVENT
END:VCALENDAR